BEGIN:VCALENDAR
VERSION:2.0
PRODID:-//Association des Femmes pour le Développement Durable - ECPv6.1.3//NONSGML v1.0//EN
CALSCALE:GREGORIAN
METHOD:PUBLISH
X-WR-CALNAME:Association des Femmes pour le Développement Durable
X-ORIGINAL-URL:https://www.afdd.org
X-WR-CALDESC:évènements pour Association des Femmes pour le Développement Durable
REFRESH-INTERVAL;VALUE=DURATION:PT1H
X-Robots-Tag:noindex
X-PUBLISHED-TTL:PT1H
BEGIN:VTIMEZONE
TZID:Europe/Paris
BEGIN:DAYLIGHT
TZOFFSETFROM:+0100
TZOFFSETTO:+0200
TZNAME:CEST
DTSTART:20240331T010000
END:DAYLIGHT
BEGIN:STANDARD
TZOFFSETFROM:+0200
TZOFFSETTO:+0100
TZNAME:CET
DTSTART:20241027T010000
END:STANDARD
END:VTIMEZONE
BEGIN:VEVENT
DTSTART;TZID=Europe/Paris:20240928T130000
DTEND;TZID=Europe/Paris:20240928T170000
DTSTAMP:20260423T132607
CREATED:20241012T171850Z
LAST-MODIFIED:20250821T121223Z
UID:3722-1727528400-1727542800@www.afdd.org
SUMMARY:Célébration de la Semaine Européenne du Développement Durable 2024
DESCRIPTION:– Jeu la ferme pour les enfants \n– Quiz avec la roue des ODD \n– Jeux de maison écologique \n– Les enfants vont faire le montage d’une maison écologique \n– Les adultes vont tourner la roue des ODD et répondre à la questions sur l’ODD indiqué par la flèche. \n– Le jeu de l’Oie sur les ODD sera fait par les jeunes.  \n    \n 
URL:https://www.afdd.org/event/celebration-de-la-semaine-europeenne-du-developpement-durable-2024
LOCATION:Square Paul Grimault\, 75013 Paris\, Square Paul Grimault\, Paris\, 75013\, France
ORGANIZER;CN="AFDD":MAILTO:AFDD-contact@afdd.org
END:VEVENT
END:VCALENDAR