BEGIN:VCALENDAR
VERSION:2.0
PRODID:-//Association des Femmes pour le Développement Durable - ECPv6.1.3//NONSGML v1.0//EN
CALSCALE:GREGORIAN
METHOD:PUBLISH
X-WR-CALNAME:Association des Femmes pour le Développement Durable
X-ORIGINAL-URL:https://www.afdd.org
X-WR-CALDESC:évènements pour Association des Femmes pour le Développement Durable
REFRESH-INTERVAL;VALUE=DURATION:PT1H
X-Robots-Tag:noindex
X-PUBLISHED-TTL:PT1H
BEGIN:VTIMEZONE
TZID:Europe/Paris
BEGIN:DAYLIGHT
TZOFFSETFROM:+0100
TZOFFSETTO:+0200
TZNAME:CEST
DTSTART:20240331T010000
END:DAYLIGHT
BEGIN:STANDARD
TZOFFSETFROM:+0200
TZOFFSETTO:+0100
TZNAME:CET
DTSTART:20241027T010000
END:STANDARD
END:VTIMEZONE
BEGIN:VEVENT
DTSTART;TZID=Europe/Paris:20241214T080000
DTEND;TZID=Europe/Paris:20241214T170000
DTSTAMP:20260421T200948
CREATED:20250309T224334Z
LAST-MODIFIED:20250821T121131Z
UID:3968-1734163200-1734195600@www.afdd.org
SUMMARY:Atelier de lancement du projet ""Appui à l'autonomisation économique des femmes deplacées des villages Sabongo et Yombo dans l'agroécologie en République Centrafricaine "
DESCRIPTION:L’AFDD a procédé le 14 décembre 2024 au lancement du projet « Appui à l’autonomisation économique des femmes déplacées des villages Sabongo et Yombo dans l’agroécologie en République Centrafricaine  » financé par l’organisation internationale de la Francophonie dans le cadre du « Fonds la Francophonie avec Elles
URL:https://www.afdd.org/event/atelier-de-lancement-du-projet-appui-a-lautonomisation-economique-des-femmes-deplacees-des-villages-sabongo-et-yombo-dans-lagroecologie-en-republique-centrafricaine
LOCATION:Bimbo\, République Centrafricaine\, Bimbo\, République Centrafricaine
END:VEVENT
END:VCALENDAR