BEGIN:VCALENDAR
VERSION:2.0
PRODID:-//Association des Femmes pour le Développement Durable - ECPv6.1.3//NONSGML v1.0//EN
CALSCALE:GREGORIAN
METHOD:PUBLISH
X-WR-CALNAME:Association des Femmes pour le Développement Durable
X-ORIGINAL-URL:https://www.afdd.org
X-WR-CALDESC:évènements pour Association des Femmes pour le Développement Durable
REFRESH-INTERVAL;VALUE=DURATION:PT1H
X-Robots-Tag:noindex
X-PUBLISHED-TTL:PT1H
BEGIN:VTIMEZONE
TZID:Europe/Paris
BEGIN:DAYLIGHT
TZOFFSETFROM:+0100
TZOFFSETTO:+0200
TZNAME:CEST
DTSTART:20250330T010000
END:DAYLIGHT
BEGIN:STANDARD
TZOFFSETFROM:+0200
TZOFFSETTO:+0100
TZNAME:CET
DTSTART:20251026T010000
END:STANDARD
END:VTIMEZONE
BEGIN:VEVENT
DTSTART;TZID=Europe/Paris:20250309T080000
DTEND;TZID=Europe/Paris:20250309T170000
DTSTAMP:20260421T152744
CREATED:20250309T224725Z
LAST-MODIFIED:20250821T121111Z
UID:3997-1741507200-1741539600@www.afdd.org
SUMMARY:Atelier de lancement du projet "Appui à la Promotion d’eau potable et à une alimentation saine et équilibrée aux écoliers du village Yamboro\,  en République Centrafricaine "
DESCRIPTION:Atelier de lancement du projet « Appui à la Promotion d’eau potable et à une alimentation saine et équilibrée aux écoliers du village Yamboro\, en République Centrafricaine « par l’AFDD le 18 décembre 2024.\nProjet financé par l’Agence Française de développement (AFD) dans le cadre du PRAOSIM.
URL:https://www.afdd.org/event/atelier-de-lancement-du-projet-appui-a-la-promotion-deau-potable-et-a-une-alimentation-saine-et-equilibree-aux-ecoliers-du-village-yamboro-en-republique-centrafricaine
END:VEVENT
END:VCALENDAR